BEGIN:VCALENDAR
VERSION:2.0
PRODID:-//The Veterans Center - ECPv6.15.20//NONSGML v1.0//EN
CALSCALE:GREGORIAN
METHOD:PUBLISH
X-WR-CALNAME:The Veterans Center
X-ORIGINAL-URL:https://theveteranscenter.org
X-WR-CALDESC:Events for The Veterans Center
REFRESH-INTERVAL;VALUE=DURATION:PT1H
X-Robots-Tag:noindex
X-PUBLISHED-TTL:PT1H
BEGIN:VTIMEZONE
TZID:America/Denver
BEGIN:DAYLIGHT
TZOFFSETFROM:-0700
TZOFFSETTO:-0600
TZNAME:MDT
DTSTART:20250309T090000
END:DAYLIGHT
BEGIN:STANDARD
TZOFFSETFROM:-0600
TZOFFSETTO:-0700
TZNAME:MST
DTSTART:20251102T080000
END:STANDARD
BEGIN:DAYLIGHT
TZOFFSETFROM:-0700
TZOFFSETTO:-0600
TZNAME:MDT
DTSTART:20260308T090000
END:DAYLIGHT
BEGIN:STANDARD
TZOFFSETFROM:-0600
TZOFFSETTO:-0700
TZNAME:MST
DTSTART:20261101T080000
END:STANDARD
BEGIN:DAYLIGHT
TZOFFSETFROM:-0700
TZOFFSETTO:-0600
TZNAME:MDT
DTSTART:20270314T090000
END:DAYLIGHT
BEGIN:STANDARD
TZOFFSETFROM:-0600
TZOFFSETTO:-0700
TZNAME:MST
DTSTART:20271107T080000
END:STANDARD
END:VTIMEZONE
BEGIN:VEVENT
DTSTART;TZID=America/Denver:20260218T153000
DTEND;TZID=America/Denver:20260218T210000
DTSTAMP:20260422T061756
CREATED:20260203T191008Z
LAST-MODIFIED:20260203T191008Z
UID:10004720-1771428600-1771448400@theveteranscenter.org
SUMMARY:Ninety-Pound Rucksack Challenge
DESCRIPTION:This is an event to commemorate the 10th Mountain Division attack on Riva Ridge in Italy during World War II.
URL:https://theveteranscenter.org/events/ninety-pound-rucksack-challenge/
LOCATION:Steamboat Ski Area
ORGANIZER;CN="Wayne Brainerd":MAILTO:waynebrainerd@yahoo.com
END:VEVENT
END:VCALENDAR