BEGIN:VCALENDAR
VERSION:2.0
PRODID:-//The Veterans Center - ECPv6.15.20//NONSGML v1.0//EN
CALSCALE:GREGORIAN
METHOD:PUBLISH
X-ORIGINAL-URL:https://theveteranscenter.org
X-WR-CALDESC:Events for The Veterans Center
REFRESH-INTERVAL;VALUE=DURATION:PT1H
X-Robots-Tag:noindex
X-PUBLISHED-TTL:PT1H
BEGIN:VTIMEZONE
TZID:America/Denver
BEGIN:DAYLIGHT
TZOFFSETFROM:-0700
TZOFFSETTO:-0600
TZNAME:MDT
DTSTART:20250309T090000
END:DAYLIGHT
BEGIN:STANDARD
TZOFFSETFROM:-0600
TZOFFSETTO:-0700
TZNAME:MST
DTSTART:20251102T080000
END:STANDARD
BEGIN:DAYLIGHT
TZOFFSETFROM:-0700
TZOFFSETTO:-0600
TZNAME:MDT
DTSTART:20260308T090000
END:DAYLIGHT
BEGIN:STANDARD
TZOFFSETFROM:-0600
TZOFFSETTO:-0700
TZNAME:MST
DTSTART:20261101T080000
END:STANDARD
BEGIN:DAYLIGHT
TZOFFSETFROM:-0700
TZOFFSETTO:-0600
TZNAME:MDT
DTSTART:20270314T090000
END:DAYLIGHT
BEGIN:STANDARD
TZOFFSETFROM:-0600
TZOFFSETTO:-0700
TZNAME:MST
DTSTART:20271107T080000
END:STANDARD
END:VTIMEZONE
BEGIN:VEVENT
DTSTART;TZID=America/Denver:20261201T170000
DTEND;TZID=America/Denver:20261201T183000
DTSTAMP:20260422T010845
CREATED:20260414T200151Z
LAST-MODIFIED:20260414T200151Z
UID:10004784-1796144400-1796149800@theveteranscenter.org
SUMMARY:Veterans Yoga
DESCRIPTION:The classes are for any veteran and their spouse or family member.  Come 15 minutes early\, 4:45 to be ready at 5:00 p.m.  Bring a mat if you  have one.  This is for veterans and family members.  Yoga can greatly improve your health\, so plan to attend.
URL:https://theveteranscenter.org/events/veterans-yoga-6/2026-12-01/
LOCATION:The Veterans Center\, 924 Lincoln Avenue\, Steamboat Springs\, CO\, 80487\, United States
ORGANIZER;CN="Val Brainerd%2C VYP Colorado Director":MAILTO:val.brainerd@veteransyogaproject.org
END:VEVENT
BEGIN:VEVENT
DTSTART;TZID=America/Denver:20261208T170000
DTEND;TZID=America/Denver:20261208T183000
DTSTAMP:20260422T010845
CREATED:20260414T200151Z
LAST-MODIFIED:20260414T200151Z
UID:10004785-1796749200-1796754600@theveteranscenter.org
SUMMARY:Veterans Yoga
DESCRIPTION:The classes are for any veteran and their spouse or family member.  Come 15 minutes early\, 4:45 to be ready at 5:00 p.m.  Bring a mat if you  have one.  This is for veterans and family members.  Yoga can greatly improve your health\, so plan to attend.
URL:https://theveteranscenter.org/events/veterans-yoga-6/2026-12-08/
LOCATION:The Veterans Center\, 924 Lincoln Avenue\, Steamboat Springs\, CO\, 80487\, United States
ORGANIZER;CN="Val Brainerd%2C VYP Colorado Director":MAILTO:val.brainerd@veteransyogaproject.org
END:VEVENT
BEGIN:VEVENT
DTSTART;TZID=America/Denver:20261215T170000
DTEND;TZID=America/Denver:20261215T183000
DTSTAMP:20260422T010845
CREATED:20260414T200151Z
LAST-MODIFIED:20260414T200151Z
UID:10004786-1797354000-1797359400@theveteranscenter.org
SUMMARY:Veterans Yoga
DESCRIPTION:The classes are for any veteran and their spouse or family member.  Come 15 minutes early\, 4:45 to be ready at 5:00 p.m.  Bring a mat if you  have one.  This is for veterans and family members.  Yoga can greatly improve your health\, so plan to attend.
URL:https://theveteranscenter.org/events/veterans-yoga-6/2026-12-15/
LOCATION:The Veterans Center\, 924 Lincoln Avenue\, Steamboat Springs\, CO\, 80487\, United States
ORGANIZER;CN="Val Brainerd%2C VYP Colorado Director":MAILTO:val.brainerd@veteransyogaproject.org
END:VEVENT
BEGIN:VEVENT
DTSTART;TZID=America/Denver:20261222T170000
DTEND;TZID=America/Denver:20261222T183000
DTSTAMP:20260422T010845
CREATED:20260414T200151Z
LAST-MODIFIED:20260414T200151Z
UID:10004787-1797958800-1797964200@theveteranscenter.org
SUMMARY:Veterans Yoga
DESCRIPTION:The classes are for any veteran and their spouse or family member.  Come 15 minutes early\, 4:45 to be ready at 5:00 p.m.  Bring a mat if you  have one.  This is for veterans and family members.  Yoga can greatly improve your health\, so plan to attend.
URL:https://theveteranscenter.org/events/veterans-yoga-6/2026-12-22/
LOCATION:The Veterans Center\, 924 Lincoln Avenue\, Steamboat Springs\, CO\, 80487\, United States
ORGANIZER;CN="Val Brainerd%2C VYP Colorado Director":MAILTO:val.brainerd@veteransyogaproject.org
END:VEVENT
END:VCALENDAR