BEGIN:VCALENDAR
VERSION:2.0
PRODID:-//The Veterans Center - ECPv6.15.20//NONSGML v1.0//EN
CALSCALE:GREGORIAN
METHOD:PUBLISH
X-WR-CALNAME:The Veterans Center
X-ORIGINAL-URL:https://theveteranscenter.org
X-WR-CALDESC:Events for The Veterans Center
REFRESH-INTERVAL;VALUE=DURATION:PT1H
X-Robots-Tag:noindex
X-PUBLISHED-TTL:PT1H
BEGIN:VTIMEZONE
TZID:America/Denver
BEGIN:DAYLIGHT
TZOFFSETFROM:-0700
TZOFFSETTO:-0600
TZNAME:MDT
DTSTART:20250309T090000
END:DAYLIGHT
BEGIN:STANDARD
TZOFFSETFROM:-0600
TZOFFSETTO:-0700
TZNAME:MST
DTSTART:20251102T080000
END:STANDARD
BEGIN:DAYLIGHT
TZOFFSETFROM:-0700
TZOFFSETTO:-0600
TZNAME:MDT
DTSTART:20260308T090000
END:DAYLIGHT
BEGIN:STANDARD
TZOFFSETFROM:-0600
TZOFFSETTO:-0700
TZNAME:MST
DTSTART:20261101T080000
END:STANDARD
BEGIN:DAYLIGHT
TZOFFSETFROM:-0700
TZOFFSETTO:-0600
TZNAME:MDT
DTSTART:20270314T090000
END:DAYLIGHT
BEGIN:STANDARD
TZOFFSETFROM:-0600
TZOFFSETTO:-0700
TZNAME:MST
DTSTART:20271107T080000
END:STANDARD
END:VTIMEZONE
BEGIN:VEVENT
DTSTART;TZID=America/Denver:20260425T093000
DTEND;TZID=America/Denver:20260425T143000
DTSTAMP:20260423T183207
CREATED:20260413T180126Z
LAST-MODIFIED:20260421T193752Z
UID:10004725-1777109400-1777127400@theveteranscenter.org
SUMMARY:American Legion District 14 Meeting
DESCRIPTION:American Legion District meeting at Post 189 in Yampa. \nThe District Posts are Granby\, Yampa\, Steamboat\, Hayden\, Craig and Meeker.\n\nDistrict meetings are important because it is the opportunity to find out what other posts in the District are doing and to find out about what is going on at the State Level.\nAlso\, this meeting is important because District Officers are elected.  We need good District Officers because they are the ones that keep coordination on activities among the posts and also what is going on at the Department Level.\nRegistration is from 9:30 a.m. to 10:00 with the meeting to start at 10:00 a.m.\nThe meeting ends around 2:30 p.m. and Lunch is provided.\nIf you can attend please let Jim Stanko or Tina Kyprios know before Friday.\n\nMembers from Leo Hill Post 44\, Steamboat Springs\, are encouraged to attend.\n\nLink to meeting agenda American Legion District 14 Meeting Agenda
URL:https://theveteranscenter.org/events/american-legion-district-14-meeting/
LOCATION:Yampa Post 189\, 184 Clifton Avenue\, Yampa\, CO\, 80483\, United States
ORGANIZER;CN="Jim Stanko":MAILTO:jim@theveteranscenter.org
END:VEVENT
BEGIN:VEVENT
DTSTART;TZID=America/Denver:20260429T160000
DTEND;TZID=America/Denver:20260429T170000
DTSTAMP:20260423T183207
CREATED:20260421T185332Z
LAST-MODIFIED:20260421T190144Z
UID:10004788-1777478400-1777482000@theveteranscenter.org
SUMMARY:VA Home Loan Basic Training
DESCRIPTION:For more information\, click on link. \nVA Home Loan Basic Training
URL:https://theveteranscenter.org/events/va-home-loan-basic-training/
LOCATION:Senior Social Center\, 775 Yampa Avenue\, Craig\, 81625\, United States
ORGANIZER;CN="Jim Stanko":MAILTO:jim@theveteranscenter.org
END:VEVENT
END:VCALENDAR